BEGIN:VCALENDAR
VERSION:2.0
PRODID:-//Plone.org//NONSGML plone.app.event//EN
X-WR-TIMEZONE:Europe/Zurich
BEGIN:VEVENT
SUMMARY:Schmutziger Donnerstag (schulfrei\, ausser 5. Klassen)
DTSTART;VALUE=DATE:20260212
DTEND;VALUE=DATE:20260213
DTSTAMP;VALUE=DATE-TIME:20260423T231826Z
UID:f90b3b7f128a40afb0f8a008b735c563@127.0.0.1:6081
CREATED;VALUE=DATE-TIME:20250922T080216Z
LAST-MODIFIED;VALUE=DATE-TIME:20250922T080226Z
URL:https://gymnasium.ai.ch/nuetzliches/termine/schmutziger-donnerstag-sch
 ulfrei-ausser-5-klassen
END:VEVENT
END:VCALENDAR
