BEGIN:VCALENDAR
VERSION:2.0
PRODID:-//Plone.org//NONSGML plone.app.event//EN
X-WR-TIMEZONE:Europe/Zurich
BEGIN:VEVENT
SUMMARY:Schmutziger Donnerstag (schulfrei)
DTSTART;VALUE=DATE:20240208
DTEND;VALUE=DATE:20240209
DTSTAMP;VALUE=DATE-TIME:20260424T004742Z
UID:3ea4880bdb9d4448a796a70076174d3a@127.0.0.1:6081
CREATED;VALUE=DATE-TIME:20240202T150445Z
LAST-MODIFIED;VALUE=DATE-TIME:20240202T150450Z
URL:https://gymnasium.ai.ch/nuetzliches/termine/schmutziger-donnerstag-sch
 ulfrei
END:VEVENT
END:VCALENDAR
