BEGIN:VCALENDAR
VERSION:2.0
PRODID:-//Plone.org//NONSGML plone.app.event//EN
X-WR-TIMEZONE:Europe/Zurich
BEGIN:VEVENT
SUMMARY:Schmutziger Donnerstag
DTSTART;VALUE=DATE:20190227
DTEND;VALUE=DATE:20190301
DTSTAMP;VALUE=DATE-TIME:20260423T231216Z
UID:fd8aa52fe9b64c7dba8b244217c43c35@127.0.0.1:10150
CREATED;VALUE=DATE-TIME:20190220T212736Z
LAST-MODIFIED;VALUE=DATE-TIME:20190220T212743Z
URL:https://gymnasium.ai.ch/nuetzliches/termine/schmutziger-donnerstag
END:VEVENT
END:VCALENDAR
