BEGIN:VCALENDAR
VERSION:2.0
PRODID:-//Plone.org//NONSGML plone.app.event//EN
X-WR-TIMEZONE:Europe/Zurich
BEGIN:VEVENT
SUMMARY:schriftliche Maturaprüfung 5. Prüfungsfach\, vormittags
DTSTART;VALUE=DATE:20250606
DTEND;VALUE=DATE:20250607
DTSTAMP;VALUE=DATE-TIME:20260424T021943Z
UID:2c8c5f5cbb074df082b80a059cae9c1c@127.0.0.1:6081
CREATED;VALUE=DATE-TIME:20240927T150834Z
LAST-MODIFIED;VALUE=DATE-TIME:20240927T150842Z
URL:https://gymnasium.ai.ch/nuetzliches/termine/schriftliche-maturapruefun
 g-5-pruefungsfach-vormittags-1
END:VEVENT
END:VCALENDAR
