BEGIN:VCALENDAR
VERSION:2.0
PRODID:-//Plone.org//NONSGML plone.app.event//EN
X-WR-TIMEZONE:Europe/Zurich
BEGIN:VEVENT
SUMMARY:schriftliche Maturaprüfung 5. Prüfungsfach\, vormittags (07.45 -
  11.45 Uhr)
DTSTART;VALUE=DATE:20240601
DTEND;VALUE=DATE:20240602
DTSTAMP;VALUE=DATE-TIME:20260423T231821Z
UID:592b00e380bb420eba60d7c1ec4b72c6@127.0.0.1:6081
CREATED;VALUE=DATE-TIME:20240419T070607Z
LAST-MODIFIED;VALUE=DATE-TIME:20240524T073022Z
URL:https://gymnasium.ai.ch/nuetzliches/termine/schriftliche-maturapruefun
 g-5-pruefungsfach-vormittags
END:VEVENT
END:VCALENDAR
