BEGIN:VCALENDAR
VERSION:2.0
PRODID:-//Plone.org//NONSGML plone.app.event//EN
X-WR-TIMEZONE:Europe/Zurich
BEGIN:VEVENT
SUMMARY:schriftliche Maturaprüfung Französisch\, vormittags
DTSTART;VALUE=DATE:20230530
DTEND;VALUE=DATE:20230531
DTSTAMP;VALUE=DATE-TIME:20260423T231653Z
UID:8aa57448d0f7448c8b3aecc2e22b200c@127.0.0.1:6081
CREATED;VALUE=DATE-TIME:20221012T165044Z
LAST-MODIFIED;VALUE=DATE-TIME:20230525T152247Z
URL:https://gymnasium.ai.ch/nuetzliches/termine/schriftliche-maturapruefun
 g-5
END:VEVENT
END:VCALENDAR
