BEGIN:VCALENDAR
VERSION:2.0
PRODID:-//Plone.org//NONSGML plone.app.event//EN
X-WR-TIMEZONE:Europe/Zurich
BEGIN:VEVENT
SUMMARY:schriftliche Maturaprüfung Deutsch\, vormittags
DTSTART;VALUE=DATE:20230531
DTEND;VALUE=DATE:20230601
DTSTAMP;VALUE=DATE-TIME:20260423T231650Z
UID:d229a5221f694850b4ed418e04d8a8ab@127.0.0.1:6081
CREATED;VALUE=DATE-TIME:20221012T165406Z
LAST-MODIFIED;VALUE=DATE-TIME:20230525T152339Z
URL:https://gymnasium.ai.ch/nuetzliches/termine/schriftliche-maturapruefun
 g-6
END:VEVENT
END:VCALENDAR
