BEGIN:VCALENDAR
VERSION:2.0
PRODID:-//Plone.org//NONSGML plone.app.event//EN
X-WR-TIMEZONE:Europe/Zurich
BEGIN:VEVENT
SUMMARY:schriftliche Maturaprüfung Mathematik\, vormittags
DTSTART;VALUE=DATE:20230601
DTEND;VALUE=DATE:20230602
DTSTAMP;VALUE=DATE-TIME:20260423T231654Z
UID:1663b7a7cfc14f2aad1bcf5cbfef481b@127.0.0.1:6081
CREATED;VALUE=DATE-TIME:20221012T165605Z
LAST-MODIFIED;VALUE=DATE-TIME:20230525T152438Z
URL:https://gymnasium.ai.ch/nuetzliches/termine/schriftliche-maturapruefun
 g-7
END:VEVENT
END:VCALENDAR
