BEGIN:VCALENDAR
VERSION:2.0
PRODID:-//Plone.org//NONSGML plone.app.event//EN
X-WR-TIMEZONE:Europe/Zurich
BEGIN:VEVENT
SUMMARY:schriftliche Maturaprüfung Schwerpunktfach\, vormittags
DTSTART;VALUE=DATE:20230602
DTEND;VALUE=DATE:20230603
DTSTAMP;VALUE=DATE-TIME:20260423T231653Z
UID:681b551602b6446393bd032818c678a0@127.0.0.1:6081
CREATED;VALUE=DATE-TIME:20221012T165911Z
LAST-MODIFIED;VALUE=DATE-TIME:20230525T152512Z
URL:https://gymnasium.ai.ch/nuetzliches/termine/schriftliche-maturapruefun
 g-8
END:VEVENT
END:VCALENDAR
