BEGIN:VCALENDAR
VERSION:2.0
PRODID:-//Plone.org//NONSGML plone.app.event//EN
X-WR-TIMEZONE:Europe/Zurich
BEGIN:VEVENT
SUMMARY:schriftliche Maturaprüfung Deutsch\, vormittags (07.45 - 11.45 Uh
 r)
DTSTART;VALUE=DATE:20240528
DTEND;VALUE=DATE:20240529
DTSTAMP;VALUE=DATE-TIME:20260423T231807Z
UID:f9fa3d5db3a74f5a88b405a6970ab3b1@127.0.0.1:6081
CREATED;VALUE=DATE-TIME:20240419T065614Z
LAST-MODIFIED;VALUE=DATE-TIME:20240524T072030Z
URL:https://gymnasium.ai.ch/nuetzliches/termine/schriftliche-maturapruefun
 g-deutsch-vormittags
END:VEVENT
END:VCALENDAR
