BEGIN:VCALENDAR
VERSION:2.0
PRODID:-//Plone.org//NONSGML plone.app.event//EN
X-WR-TIMEZONE:Europe/Zurich
BEGIN:VEVENT
SUMMARY:schriftliche Maturaprüfung Französisch\, vormittags
DTSTART;VALUE=DATE:20250602
DTEND;VALUE=DATE:20250603
DTSTAMP;VALUE=DATE-TIME:20260424T005818Z
UID:e2c6eea8eaf34a4784be76ea84d15f5f@127.0.0.1:6081
CREATED;VALUE=DATE-TIME:20240927T150248Z
LAST-MODIFIED;VALUE=DATE-TIME:20240927T150253Z
URL:https://gymnasium.ai.ch/nuetzliches/termine/schriftliche-maturapruefun
 g-franzoesisch-vormittags-1
END:VEVENT
END:VCALENDAR
