BEGIN:VCALENDAR
VERSION:2.0
PRODID:-//Plone.org//NONSGML plone.app.event//EN
X-WR-TIMEZONE:Europe/Zurich
BEGIN:VEVENT
SUMMARY:schriftliche Maturaprüfung Französisch\, vormittags (07.30 - 11.
 45 Uhr)
DTSTART;VALUE=DATE:20240527
DTEND;VALUE=DATE:20240528
DTSTAMP;VALUE=DATE-TIME:20260423T231920Z
UID:8eacf7221ab14439a19dc805e13877a2@127.0.0.1:6081
CREATED;VALUE=DATE-TIME:20240419T064934Z
LAST-MODIFIED;VALUE=DATE-TIME:20240524T071921Z
URL:https://gymnasium.ai.ch/nuetzliches/termine/schriftliche-maturapruefun
 g-franzoesisch-vormittags
END:VEVENT
END:VCALENDAR
