BEGIN:VCALENDAR
VERSION:2.0
PRODID:-//Plone.org//NONSGML plone.app.event//EN
X-WR-TIMEZONE:Europe/Zurich
BEGIN:VEVENT
SUMMARY:schriftliche Maturaprüfung Mathematik\, vormittags
DTSTART;VALUE=DATE:20250604
DTEND;VALUE=DATE:20250605
DTSTAMP;VALUE=DATE-TIME:20260424T005534Z
UID:26d1bcffdbb04f94afca944fb46596a4@127.0.0.1:6081
CREATED;VALUE=DATE-TIME:20240927T150526Z
LAST-MODIFIED;VALUE=DATE-TIME:20240927T150532Z
URL:https://gymnasium.ai.ch/nuetzliches/termine/schriftliche-maturapruefun
 g-mathematik-vormittags-1
END:VEVENT
END:VCALENDAR
