BEGIN:VCALENDAR
VERSION:2.0
PRODID:-//Plone.org//NONSGML plone.app.event//EN
X-WR-TIMEZONE:Europe/Zurich
BEGIN:VEVENT
SUMMARY:schriftliche Maturaprüfung Mathematik\, vormittags (07.45 - 11.45
  Uhr)
DTSTART;VALUE=DATE:20240529
DTEND;VALUE=DATE:20240530
DTSTAMP;VALUE=DATE-TIME:20260423T231807Z
UID:16f03caad0ed40278c9cad7c0565bb65@127.0.0.1:6081
CREATED;VALUE=DATE-TIME:20240419T065855Z
LAST-MODIFIED;VALUE=DATE-TIME:20240524T072619Z
URL:https://gymnasium.ai.ch/nuetzliches/termine/schriftliche-maturapruefun
 g-mathematik-vormittags
END:VEVENT
END:VCALENDAR
