BEGIN:VCALENDAR
VERSION:2.0
PRODID:-//Plone.org//NONSGML plone.app.event//EN
X-WR-TIMEZONE:Europe/Zurich
BEGIN:VEVENT
SUMMARY:schriftliche Maturaprüfung Schwerpunktfach\, vormittags
DTSTART;VALUE=DATE:20250605
DTEND;VALUE=DATE:20250606
DTSTAMP;VALUE=DATE-TIME:20260423T231806Z
UID:ec6bd073b47a46c48b37cd923fb2f896@127.0.0.1:6081
CREATED;VALUE=DATE-TIME:20240927T150637Z
LAST-MODIFIED;VALUE=DATE-TIME:20240927T150642Z
URL:https://gymnasium.ai.ch/nuetzliches/termine/schriftliche-maturapruefun
 g-schwerpunktfach-vormittags-1
END:VEVENT
END:VCALENDAR
