BEGIN:VCALENDAR
VERSION:2.0
PRODID:-//Plone.org//NONSGML plone.app.event//EN
X-WR-TIMEZONE:Europe/Zurich
BEGIN:VEVENT
SUMMARY:schriftliche Maturaprüfung Schwerpunktfach\, vormittags (07.45 - 
 11.45 Uhr)
DTSTART;VALUE=DATE:20240531
DTEND;VALUE=DATE:20240601
DTSTAMP;VALUE=DATE-TIME:20260424T005039Z
UID:3172d9ffd2b34c4da9172b706dd4b14a@127.0.0.1:6081
CREATED;VALUE=DATE-TIME:20240419T070322Z
LAST-MODIFIED;VALUE=DATE-TIME:20240524T072807Z
URL:https://gymnasium.ai.ch/nuetzliches/termine/schriftliche-maturapruefun
 g-schwerpunktfach-vormittags
END:VEVENT
END:VCALENDAR
