BEGIN:VCALENDAR
VERSION:2.0
PRODID:-//Plone.org//NONSGML plone.app.event//EN
X-WR-TIMEZONE:Europe/Zurich
BEGIN:VEVENT
SUMMARY:Schriftliche Maturaprüfung
DTSTART;VALUE=DATE-TIME:20180528T053000Z
DTEND;VALUE=DATE-TIME:20180528T094500Z
DTSTAMP;VALUE=DATE-TIME:20260423T231614Z
UID:31184b7f2b93422789be527953e6d4be@127.0.0.1:10150
CREATED;VALUE=DATE-TIME:20180307T093708Z
LAST-MODIFIED;VALUE=DATE-TIME:20180511T064100Z
URL:https://gymnasium.ai.ch/nuetzliches/termine/schriftliche-maturapruefun
 g
END:VEVENT
END:VCALENDAR
