BEGIN:VCALENDAR
VERSION:2.0
PRODID:-//Plone.org//NONSGML plone.app.event//EN
X-WR-TIMEZONE:Europe/Zurich
BEGIN:VEVENT
SUMMARY:Schriftliche Maturaprüfungen\, 1. Teil
DTSTART;VALUE=DATE-TIME:20190527T050000Z
DTEND;VALUE=DATE-TIME:20190527T100000Z
DTSTAMP;VALUE=DATE-TIME:20260423T231828Z
UID:e6fbb9dae35249cca306d6f9b831453d@127.0.0.1:10150
CREATED;VALUE=DATE-TIME:20181218T090930Z
LAST-MODIFIED;VALUE=DATE-TIME:20190131T074232Z
URL:https://gymnasium.ai.ch/nuetzliches/termine/schriftliche-maturapruefun
 gen-1-teil
END:VEVENT
END:VCALENDAR
