BEGIN:VCALENDAR
VERSION:2.0
PRODID:-//Plone.org//NONSGML plone.app.event//EN
X-WR-TIMEZONE:Europe/Zurich
BEGIN:VEVENT
SUMMARY:Schriftliche Maturaprüfung Mathematik
DTSTART;VALUE=DATE-TIME:20210602T054500Z
DTEND;VALUE=DATE-TIME:20210602T094500Z
DTSTAMP;VALUE=DATE-TIME:20260424T005039Z
UID:e68078e82de64e24866699d3c5f83b5a@127.0.0.1:10150
CREATED;VALUE=DATE-TIME:20210417T185929Z
LAST-MODIFIED;VALUE=DATE-TIME:20210531T070320Z
URL:https://gymnasium.ai.ch/nuetzliches/termine/schriftliche-maturapruefun
 gen-vormittags-1
END:VEVENT
END:VCALENDAR
