BEGIN:VCALENDAR
VERSION:2.0
PRODID:-//Plone.org//NONSGML plone.app.event//EN
X-WR-TIMEZONE:Europe/Zurich
BEGIN:VEVENT
SUMMARY:Schriftliche Maturaprüfung Schwerpunktfach
DTSTART;VALUE=DATE-TIME:20210604T054500Z
DTEND;VALUE=DATE-TIME:20210604T094500Z
DTSTAMP;VALUE=DATE-TIME:20260423T231822Z
UID:b5556351bfa943eb8f18edd70a400730@127.0.0.1:10150
CREATED;VALUE=DATE-TIME:20210417T190108Z
LAST-MODIFIED;VALUE=DATE-TIME:20210531T070403Z
URL:https://gymnasium.ai.ch/nuetzliches/termine/schriftliche-maturapruefun
 gen-vormittags-2
END:VEVENT
END:VCALENDAR
