BEGIN:VCALENDAR
VERSION:2.0
PRODID:-//Plone.org//NONSGML plone.app.event//EN
X-WR-TIMEZONE:Europe/Zurich
BEGIN:VEVENT
SUMMARY:Schriftliche Maturaprüfung 5. Prüfungsfach
DTSTART;VALUE=DATE-TIME:20210605T054500Z
DTEND;VALUE=DATE-TIME:20210605T094500Z
DTSTAMP;VALUE=DATE-TIME:20260423T231807Z
UID:3dc57d647da747dc86df6d36ee060e61@127.0.0.1:10150
CREATED;VALUE=DATE-TIME:20210417T190209Z
LAST-MODIFIED;VALUE=DATE-TIME:20210531T070507Z
URL:https://gymnasium.ai.ch/nuetzliches/termine/schriftliche-maturapruefun
 gen-vormittags-3
END:VEVENT
END:VCALENDAR
