BEGIN:VCALENDAR
VERSION:2.0
PRODID:-//Plone.org//NONSGML plone.app.event//EN
X-WR-TIMEZONE:Europe/Zurich
BEGIN:VEVENT
SUMMARY:schriftliche Maturaprüfungen (vormittags)
DTSTART;VALUE=DATE-TIME:20220530T053000Z
DTEND;VALUE=DATE-TIME:20220603T094500Z
DTSTAMP;VALUE=DATE-TIME:20260423T231807Z
UID:9b04e54542ce462491be9bc7d4153ea6@127.0.0.1:10150
CREATED;VALUE=DATE-TIME:20220118T130631Z
LAST-MODIFIED;VALUE=DATE-TIME:20220530T122850Z
URL:https://gymnasium.ai.ch/nuetzliches/termine/schriftliche-maturapruefun
 gen-vormittags-4
END:VEVENT
END:VCALENDAR
