BEGIN:VCALENDAR
VERSION:2.0
PRODID:-//Plone.org//NONSGML plone.app.event//EN
X-WR-TIMEZONE:Europe/Zurich
BEGIN:VEVENT
SUMMARY:Schriftliche Maturaprüfung Deutsch
DTSTART;VALUE=DATE-TIME:20210601T054500Z
DTEND;VALUE=DATE-TIME:20210601T094500Z
DTSTAMP;VALUE=DATE-TIME:20260423T231823Z
UID:4484de6473354ae9aa985922dd55fe00@127.0.0.1:10150
CREATED;VALUE=DATE-TIME:20210417T185828Z
LAST-MODIFIED;VALUE=DATE-TIME:20210531T070242Z
URL:https://gymnasium.ai.ch/nuetzliches/termine/schriftliche-maturapruefun
 gen-vormittags
END:VEVENT
END:VCALENDAR
