BEGIN:VCALENDAR
VERSION:2.0
PRODID:-//Plone.org//NONSGML plone.app.event//EN
X-WR-TIMEZONE:Europe/Zurich
BEGIN:VEVENT
SUMMARY:Schriftliche Maturaprüfung Französisch
DTSTART;VALUE=DATE-TIME:20210531T053000Z
DTEND;VALUE=DATE-TIME:20210531T094500Z
DTSTAMP;VALUE=DATE-TIME:20260423T231702Z
UID:89f8d885a89d4e2e8e53a80c8272b3b0@127.0.0.1:10150
CREATED;VALUE=DATE-TIME:20210417T185508Z
LAST-MODIFIED;VALUE=DATE-TIME:20210531T070157Z
URL:https://gymnasium.ai.ch/nuetzliches/termine/schriftliche-maturapruefun
 gen
END:VEVENT
END:VCALENDAR
