BEGIN:VCALENDAR
VERSION:2.0
PRODID:-//Plone.org//NONSGML plone.app.event//EN
X-WR-TIMEZONE:Europe/Zurich
BEGIN:VEVENT
SUMMARY:Schülerkonzert Gymnasium/Musikschule
DTSTART;VALUE=DATE-TIME:20180430T170000Z
DTEND;VALUE=DATE-TIME:20180430T180000Z
DTSTAMP;VALUE=DATE-TIME:20260423T231657Z
UID:264a8f8ffc7e40c68b217bda0928e70b@127.0.0.1:10150
CREATED;VALUE=DATE-TIME:20180307T092607Z
LAST-MODIFIED;VALUE=DATE-TIME:20180308T065055Z
LOCATION:Theatersaal Gymnasium
URL:https://gymnasium.ai.ch/nuetzliches/termine/schuelerkonzert-gymnasium-
 musikschule
END:VEVENT
END:VCALENDAR
