BEGIN:VCALENDAR
VERSION:2.0
PRODID:-//Plone.org//NONSGML plone.app.event//EN
X-WR-TIMEZONE:Europe/Zurich
BEGIN:VEVENT
SUMMARY:Schulbeginn
DTSTART;VALUE=DATE:20200105
DTEND;VALUE=DATE:20200107
DTSTAMP;VALUE=DATE-TIME:20260423T231218Z
UID:f4d787b0576b43ddad0428da035bc9a1@127.0.0.1:10150
CREATED;VALUE=DATE-TIME:20190707T115613Z
LAST-MODIFIED;VALUE=DATE-TIME:20190707T115617Z
URL:https://gymnasium.ai.ch/nuetzliches/termine/schulbeginn-1
END:VEVENT
END:VCALENDAR
