BEGIN:VCALENDAR
VERSION:2.0
PRODID:-//Plone.org//NONSGML plone.app.event//EN
X-WR-TIMEZONE:Europe/Zurich
BEGIN:VEVENT
SUMMARY:Schulbeginn
DTSTART;VALUE=DATE:20220306
DTEND;VALUE=DATE:20220308
DTSTAMP;VALUE=DATE-TIME:20260423T231218Z
UID:4a53b71b358c411c9e0acef8514b6711@127.0.0.1:10150
CREATED;VALUE=DATE-TIME:20211106T072240Z
LAST-MODIFIED;VALUE=DATE-TIME:20211106T072244Z
URL:https://gymnasium.ai.ch/nuetzliches/termine/schulbeginn-10
END:VEVENT
END:VCALENDAR
