BEGIN:VCALENDAR
VERSION:2.0
PRODID:-//Plone.org//NONSGML plone.app.event//EN
X-WR-TIMEZONE:Europe/Zurich
BEGIN:VEVENT
SUMMARY:Schulbeginn
DTSTART;VALUE=DATE:20220424
DTEND;VALUE=DATE:20220426
DTSTAMP;VALUE=DATE-TIME:20260423T231217Z
UID:c50baa167c014c38801240ce5756e0f5@127.0.0.1:10150
CREATED;VALUE=DATE-TIME:20220118T121933Z
LAST-MODIFIED;VALUE=DATE-TIME:20220118T121935Z
URL:https://gymnasium.ai.ch/nuetzliches/termine/schulbeginn-11
END:VEVENT
END:VCALENDAR
