BEGIN:VCALENDAR
VERSION:2.0
PRODID:-//Plone.org//NONSGML plone.app.event//EN
X-WR-TIMEZONE:Europe/Zurich
BEGIN:VEVENT
SUMMARY:Schulbeginn
DTSTART;VALUE=DATE:20221024
DTEND;VALUE=DATE:20221025
DTSTAMP;VALUE=DATE-TIME:20260423T231217Z
UID:7f38c46783214cc19e9afd72dc35de0b@127.0.0.1:6081
CREATED;VALUE=DATE-TIME:20220711T201150Z
LAST-MODIFIED;VALUE=DATE-TIME:20220711T201155Z
URL:https://gymnasium.ai.ch/nuetzliches/termine/schulbeginn-12
END:VEVENT
END:VCALENDAR
