BEGIN:VCALENDAR
VERSION:2.0
PRODID:-//Plone.org//NONSGML plone.app.event//EN
X-WR-TIMEZONE:Europe/Zurich
BEGIN:VEVENT
SUMMARY:Schulbeginn
DTSTART;VALUE=DATE:20230109
DTEND;VALUE=DATE:20230110
DTSTAMP;VALUE=DATE-TIME:20260423T231220Z
UID:0d78f52d6f0f4f22b828fd6edf35c8de@127.0.0.1:6081
CREATED;VALUE=DATE-TIME:20220711T204104Z
LAST-MODIFIED;VALUE=DATE-TIME:20220711T204108Z
URL:https://gymnasium.ai.ch/nuetzliches/termine/schulbeginn-13
END:VEVENT
END:VCALENDAR
