BEGIN:VCALENDAR
VERSION:2.0
PRODID:-//Plone.org//NONSGML plone.app.event//EN
X-WR-TIMEZONE:Europe/Zurich
BEGIN:VEVENT
SUMMARY:Schulbeginn
DTSTART;VALUE=DATE:20230227
DTEND;VALUE=DATE:20230228
DTSTAMP;VALUE=DATE-TIME:20260423T231216Z
UID:9148c661b6f94ce189125c567f8f57c0@127.0.0.1:6081
CREATED;VALUE=DATE-TIME:20221012T155136Z
LAST-MODIFIED;VALUE=DATE-TIME:20221012T155242Z
URL:https://gymnasium.ai.ch/nuetzliches/termine/schulbeginn-14
END:VEVENT
END:VCALENDAR
