BEGIN:VCALENDAR
VERSION:2.0
PRODID:-//Plone.org//NONSGML plone.app.event//EN
X-WR-TIMEZONE:Europe/Zurich
BEGIN:VEVENT
SUMMARY:Schulbeginn
DTSTART;VALUE=DATE:20230424
DTEND;VALUE=DATE:20230425
DTSTAMP;VALUE=DATE-TIME:20260423T231217Z
UID:63eb798845c54e3a9fbb651cefbeff20@127.0.0.1:6081
CREATED;VALUE=DATE-TIME:20221012T161756Z
LAST-MODIFIED;VALUE=DATE-TIME:20221012T161804Z
URL:https://gymnasium.ai.ch/nuetzliches/termine/schulbeginn-15
END:VEVENT
END:VCALENDAR
