BEGIN:VCALENDAR
VERSION:2.0
PRODID:-//Plone.org//NONSGML plone.app.event//EN
X-WR-TIMEZONE:Europe/Zurich
BEGIN:VEVENT
SUMMARY:Schulbeginn
DTSTART;VALUE=DATE:20240108
DTEND;VALUE=DATE:20240109
DTSTAMP;VALUE=DATE-TIME:20260423T231217Z
UID:b455a125c99f4db392cc8dd9bdfeb078@127.0.0.1:6081
CREATED;VALUE=DATE-TIME:20230712T091233Z
LAST-MODIFIED;VALUE=DATE-TIME:20230712T091238Z
URL:https://gymnasium.ai.ch/nuetzliches/termine/schulbeginn-17
END:VEVENT
END:VCALENDAR
