BEGIN:VCALENDAR
VERSION:2.0
PRODID:-//Plone.org//NONSGML plone.app.event//EN
X-WR-TIMEZONE:Europe/Zurich
BEGIN:VEVENT
SUMMARY:Schulbeginn
DTSTART;VALUE=DATE:20240219
DTEND;VALUE=DATE:20240220
DTSTAMP;VALUE=DATE-TIME:20260423T231218Z
UID:2978fd29374f495e8af1cf58e9e3795c@127.0.0.1:6081
CREATED;VALUE=DATE-TIME:20240202T151710Z
LAST-MODIFIED;VALUE=DATE-TIME:20240202T151714Z
URL:https://gymnasium.ai.ch/nuetzliches/termine/schulbeginn-18
END:VEVENT
END:VCALENDAR
