BEGIN:VCALENDAR
VERSION:2.0
PRODID:-//Plone.org//NONSGML plone.app.event//EN
X-WR-TIMEZONE:Europe/Zurich
BEGIN:VEVENT
SUMMARY:Schulbeginn
DTSTART;VALUE=DATE:20240422
DTEND;VALUE=DATE:20240423
DTSTAMP;VALUE=DATE-TIME:20260423T231218Z
UID:7591d85f843046c69a7dfc4daae039f5@127.0.0.1:6081
CREATED;VALUE=DATE-TIME:20240202T160114Z
LAST-MODIFIED;VALUE=DATE-TIME:20240202T160119Z
URL:https://gymnasium.ai.ch/nuetzliches/termine/schulbeginn-19
END:VEVENT
END:VCALENDAR
