BEGIN:VCALENDAR
VERSION:2.0
PRODID:-//Plone.org//NONSGML plone.app.event//EN
X-WR-TIMEZONE:Europe/Zurich
BEGIN:VEVENT
SUMMARY:Schulbeginn
DTSTART;VALUE=DATE:20250106
DTEND;VALUE=DATE:20250107
DTSTAMP;VALUE=DATE-TIME:20260423T231218Z
UID:b24330af2a0f468a89f8bb31bd305c3a@127.0.0.1:6081
CREATED;VALUE=DATE-TIME:20240703T202420Z
LAST-MODIFIED;VALUE=DATE-TIME:20240703T202425Z
URL:https://gymnasium.ai.ch/nuetzliches/termine/schulbeginn-20
END:VEVENT
END:VCALENDAR
