BEGIN:VCALENDAR
VERSION:2.0
PRODID:-//Plone.org//NONSGML plone.app.event//EN
X-WR-TIMEZONE:Europe/Zurich
BEGIN:VEVENT
SUMMARY:Schulbeginn
DTSTART;VALUE=DATE:20241021
DTEND;VALUE=DATE:20241022
DTSTAMP;VALUE=DATE-TIME:20260423T231223Z
UID:759c1ce501a24def8b0bfed75cd5a1c8@127.0.0.1:6081
CREATED;VALUE=DATE-TIME:20240703T204413Z
LAST-MODIFIED;VALUE=DATE-TIME:20240703T204417Z
URL:https://gymnasium.ai.ch/nuetzliches/termine/schulbeginn-21
END:VEVENT
END:VCALENDAR
