BEGIN:VCALENDAR
VERSION:2.0
PRODID:-//Plone.org//NONSGML plone.app.event//EN
X-WR-TIMEZONE:Europe/Zurich
BEGIN:VEVENT
SUMMARY:Schulbeginn
DTSTART;VALUE=DATE:20250310
DTEND;VALUE=DATE:20250311
DTSTAMP;VALUE=DATE-TIME:20260423T231219Z
UID:a61971481fa84c2b9a5f8bcea9fc430b@127.0.0.1:6081
CREATED;VALUE=DATE-TIME:20250226T072406Z
LAST-MODIFIED;VALUE=DATE-TIME:20250226T072410Z
URL:https://gymnasium.ai.ch/nuetzliches/termine/schulbeginn-22
END:VEVENT
END:VCALENDAR
