BEGIN:VCALENDAR
VERSION:2.0
PRODID:-//Plone.org//NONSGML plone.app.event//EN
X-WR-TIMEZONE:Europe/Zurich
BEGIN:VEVENT
SUMMARY:Schulbeginn
DTSTART;VALUE=DATE:20250422
DTEND;VALUE=DATE:20250423
DTSTAMP;VALUE=DATE-TIME:20260423T231218Z
UID:72a2c1ea6a824342969178d0c283cb8b@127.0.0.1:6081
CREATED;VALUE=DATE-TIME:20240927T153036Z
LAST-MODIFIED;VALUE=DATE-TIME:20240927T153117Z
URL:https://gymnasium.ai.ch/nuetzliches/termine/schulbeginn-23
END:VEVENT
END:VCALENDAR
