BEGIN:VCALENDAR
VERSION:2.0
PRODID:-//Plone.org//NONSGML plone.app.event//EN
X-WR-TIMEZONE:Europe/Zurich
BEGIN:VEVENT
SUMMARY:Schulbeginn
DTSTART;VALUE=DATE:20251020
DTEND;VALUE=DATE:20251021
DTSTAMP;VALUE=DATE-TIME:20260423T231217Z
UID:d6c2f04cec3e4f4baf2ba83f3bd8b4d8@127.0.0.1:6081
CREATED;VALUE=DATE-TIME:20250719T192900Z
LAST-MODIFIED;VALUE=DATE-TIME:20250719T192908Z
URL:https://gymnasium.ai.ch/nuetzliches/termine/schulbeginn-24
END:VEVENT
END:VCALENDAR
