BEGIN:VCALENDAR
VERSION:2.0
PRODID:-//Plone.org//NONSGML plone.app.event//EN
X-WR-TIMEZONE:Europe/Zurich
BEGIN:VEVENT
SUMMARY:Schulbeginn
DTSTART;VALUE=DATE:20260105
DTEND;VALUE=DATE:20260106
DTSTAMP;VALUE=DATE-TIME:20260423T231217Z
UID:56a1bde0bf0f49009b88ffe900fa0c02@127.0.0.1:6081
CREATED;VALUE=DATE-TIME:20250719T210222Z
LAST-MODIFIED;VALUE=DATE-TIME:20250719T210233Z
URL:https://gymnasium.ai.ch/nuetzliches/termine/schulbeginn-25
END:VEVENT
END:VCALENDAR
