BEGIN:VCALENDAR
VERSION:2.0
PRODID:-//Plone.org//NONSGML plone.app.event//EN
X-WR-TIMEZONE:Europe/Zurich
BEGIN:VEVENT
SUMMARY:Schulbeginn
DTSTART;VALUE=DATE:20260223
DTEND;VALUE=DATE:20260224
DTSTAMP;VALUE=DATE-TIME:20260423T231217Z
UID:1a600702027546e389ae73fa8f4f4544@127.0.0.1:6081
CREATED;VALUE=DATE-TIME:20260213T173539Z
LAST-MODIFIED;VALUE=DATE-TIME:20260213T173545Z
URL:https://gymnasium.ai.ch/nuetzliches/termine/schulbeginn-26
END:VEVENT
END:VCALENDAR
