BEGIN:VCALENDAR
VERSION:2.0
PRODID:-//Plone.org//NONSGML plone.app.event//EN
X-WR-TIMEZONE:Europe/Zurich
BEGIN:VEVENT
SUMMARY:Schulbeginn
DTSTART;VALUE=DATE:20200419
DTEND;VALUE=DATE:20200421
DTSTAMP;VALUE=DATE-TIME:20260423T231220Z
UID:04f481ed895747e081e7e2f63c4d575d@127.0.0.1:10150
CREATED;VALUE=DATE-TIME:20191030T151443Z
LAST-MODIFIED;VALUE=DATE-TIME:20191030T151448Z
URL:https://gymnasium.ai.ch/nuetzliches/termine/schulbeginn-3
END:VEVENT
END:VCALENDAR
