BEGIN:VCALENDAR
VERSION:2.0
PRODID:-//Plone.org//NONSGML plone.app.event//EN
X-WR-TIMEZONE:Europe/Zurich
BEGIN:VEVENT
SUMMARY:Schulbeginn
DTSTART;VALUE=DATE:20201018
DTEND;VALUE=DATE:20201020
DTSTAMP;VALUE=DATE-TIME:20260423T231219Z
UID:eed21aa4f7ac4cd8985291047e0a0c04@127.0.0.1:10150
CREATED;VALUE=DATE-TIME:20200911T141512Z
LAST-MODIFIED;VALUE=DATE-TIME:20200911T141516Z
URL:https://gymnasium.ai.ch/nuetzliches/termine/schulbeginn-4
END:VEVENT
END:VCALENDAR
