BEGIN:VCALENDAR
VERSION:2.0
PRODID:-//Plone.org//NONSGML plone.app.event//EN
X-WR-TIMEZONE:Europe/Zurich
BEGIN:VEVENT
SUMMARY:Schulbeginn
DTSTART;VALUE=DATE:20210103
DTEND;VALUE=DATE:20210105
DTSTAMP;VALUE=DATE-TIME:20260423T231219Z
UID:91da7cb2dee344a79817e62e18cd84e5@127.0.0.1:10150
CREATED;VALUE=DATE-TIME:20200911T143601Z
LAST-MODIFIED;VALUE=DATE-TIME:20200911T143605Z
URL:https://gymnasium.ai.ch/nuetzliches/termine/schulbeginn-5
END:VEVENT
END:VCALENDAR
