BEGIN:VCALENDAR
VERSION:2.0
PRODID:-//Plone.org//NONSGML plone.app.event//EN
X-WR-TIMEZONE:Europe/Zurich
BEGIN:VEVENT
SUMMARY:Schulbeginn
DTSTART;VALUE=DATE:20210221
DTEND;VALUE=DATE:20210223
DTSTAMP;VALUE=DATE-TIME:20260423T231218Z
UID:668ca90bbee94771949b414672ec7cbd@127.0.0.1:10150
CREATED;VALUE=DATE-TIME:20210216T103428Z
LAST-MODIFIED;VALUE=DATE-TIME:20210216T103444Z
URL:https://gymnasium.ai.ch/nuetzliches/termine/schulbeginn-6
END:VEVENT
END:VCALENDAR
