BEGIN:VCALENDAR
VERSION:2.0
PRODID:-//Plone.org//NONSGML plone.app.event//EN
X-WR-TIMEZONE:Europe/Zurich
BEGIN:VEVENT
SUMMARY:Schulbeginn
DTSTART;VALUE=DATE:20210425
DTEND;VALUE=DATE:20210427
DTSTAMP;VALUE=DATE-TIME:20260423T231219Z
UID:77db774e296f49e2976ee95cc5f84d4e@127.0.0.1:10150
CREATED;VALUE=DATE-TIME:20210408T163328Z
LAST-MODIFIED;VALUE=DATE-TIME:20210408T163339Z
URL:https://gymnasium.ai.ch/nuetzliches/termine/schulbeginn-7
END:VEVENT
END:VCALENDAR
