BEGIN:VCALENDAR
VERSION:2.0
PRODID:-//Plone.org//NONSGML plone.app.event//EN
X-WR-TIMEZONE:Europe/Zurich
BEGIN:VEVENT
SUMMARY:Schulbeginn
DTSTART;VALUE=DATE:20211024
DTEND;VALUE=DATE:20211026
DTSTAMP;VALUE=DATE-TIME:20260423T231219Z
UID:9d3c20fce5d746aa904130dbf3e3aed3@127.0.0.1:10150
CREATED;VALUE=DATE-TIME:20210817T071609Z
LAST-MODIFIED;VALUE=DATE-TIME:20210817T071613Z
URL:https://gymnasium.ai.ch/nuetzliches/termine/schulbeginn-8
END:VEVENT
END:VCALENDAR
