BEGIN:VCALENDAR
VERSION:2.0
PRODID:-//Plone.org//NONSGML plone.app.event//EN
X-WR-TIMEZONE:Europe/Zurich
BEGIN:VEVENT
SUMMARY:Schulbeginn
DTSTART;VALUE=DATE:20191020
DTEND;VALUE=DATE:20191022
DTSTAMP;VALUE=DATE-TIME:20260423T231220Z
UID:2558eaa5b91749adb05abcf2488928e9@127.0.0.1:10150
CREATED;VALUE=DATE-TIME:20190707T112845Z
LAST-MODIFIED;VALUE=DATE-TIME:20190707T112850Z
URL:https://gymnasium.ai.ch/nuetzliches/termine/schulbeginn
END:VEVENT
END:VCALENDAR
