BEGIN:VCALENDAR
VERSION:2.0
PRODID:-//Plone.org//NONSGML plone.app.event//EN
X-WR-TIMEZONE:Europe/Zurich
BEGIN:VEVENT
SUMMARY:Schulbesuchstag
DTSTART;VALUE=DATE:20181118
DTEND;VALUE=DATE:20181120
DTSTAMP;VALUE=DATE-TIME:20260423T231338Z
UID:d336cf6c028e4b27812edcdd583cc00d@127.0.0.1:10150
CREATED;VALUE=DATE-TIME:20180928T120934Z
LAST-MODIFIED;VALUE=DATE-TIME:20180928T150942Z
URL:https://gymnasium.ai.ch/nuetzliches/termine/schulbesuchstag-1
END:VEVENT
END:VCALENDAR
